BEGIN:VCALENDAR
PRODID:-//github.com/rianjs/ical.net//NONSGML ical.net 4.0//EN
VERSION:2.0
BEGIN:VTIMEZONE
TZID:Central Standard Time
X-LIC-LOCATION:America/Chicago
BEGIN:STANDARD
DTSTART:20241103T020000
RRULE:FREQ=YEARLY;BYDAY=1SU;BYMONTH=11
TZNAME:CST
TZOFFSETFROM:-0500
TZOFFSETTO:-0600
END:STANDARD
BEGIN:DAYLIGHT
DTSTART:20250309T020000
RRULE:FREQ=YEARLY;BYDAY=2SU;BYMONTH=3
TZNAME:CDT
TZOFFSETFROM:-0600
TZOFFSETTO:-0500
END:DAYLIGHT
END:VTIMEZONE
BEGIN:VEVENT
DESCRIPTION:2026 Autoimmune Neurology Conference by the American Academy o
 f Neurology\n\nTitle: Poster Session 1\n\nAccess URL: https://www.aan.com
 /msa/Public/Events/GetEventURL/22364\n\nLearn More About This Event: http
 s://www.aan.com/msa/Public/Events/Details/22364
DTEND;TZID=Central Standard Time:20260807T130000
DTSTAMP:20260423T214039Z
DTSTART;TZID=Central Standard Time:20260807T120000
LOCATION:https://www.aan.com/msa/Public/Events/GetEventURL/22364
SEQUENCE:0
SUMMARY:AAN: Poster Session 1
UID:60e7d95b-6b0c-420d-addc-a9584f2f1099
END:VEVENT
END:VCALENDAR
