BEGIN:VCALENDAR
PRODID:-//github.com/rianjs/ical.net//NONSGML ical.net 4.0//EN
VERSION:2.0
BEGIN:VTIMEZONE
TZID:Central Standard Time
X-LIC-LOCATION:America/Chicago
BEGIN:STANDARD
DTSTART:20241103T020000
RRULE:FREQ=YEARLY;BYDAY=1SU;BYMONTH=11
TZNAME:CST
TZOFFSETFROM:-0500
TZOFFSETTO:-0600
END:STANDARD
BEGIN:DAYLIGHT
DTSTART:20250309T020000
RRULE:FREQ=YEARLY;BYDAY=2SU;BYMONTH=3
TZNAME:CDT
TZOFFSETFROM:-0600
TZOFFSETTO:-0500
END:DAYLIGHT
END:VTIMEZONE
BEGIN:VEVENT
DESCRIPTION:2026 Autoimmune Neurology Conference by the American Academy o
 f Neurology\n\nTitle: Autoimmune and Infectious Encephalitis and Acute Se
 izures\n\nAccess URL: https://www.aan.com/msa/Public/Events/GetEventURL/2
 2373\n\nLearn More About This Event: https://www.aan.com/msa/Public/Event
 s/Details/22373
DTEND;TZID=Central Standard Time:20260808T091500
DTSTAMP:20260423T213944Z
DTSTART;TZID=Central Standard Time:20260808T073000
LOCATION:https://www.aan.com/msa/Public/Events/GetEventURL/22373
SEQUENCE:0
SUMMARY:AAN: Autoimmune and Infectious Encephalitis and Acute Seizures
UID:e8db02ee-52cc-457b-91b8-b8774d221d61
END:VEVENT
END:VCALENDAR
