BEGIN:VCALENDAR
PRODID:-//github.com/rianjs/ical.net//NONSGML ical.net 4.0//EN
VERSION:2.0
BEGIN:VEVENT
DESCRIPTION:2011 Annual Meeting by the American Academy of Neurology\n\nTi
 tle: Behavioral Neurology: Language\, Emotion\, and Social Cognition\n\nA
 ccess URL: https://www.aan.com/msa/Public/Events/GetEventURL/2238\n\nLear
 n More About This Event: https://www.aan.com/msa/Public/Events/Details/22
 38
DTEND:20110414T163000
DTSTAMP:20260424T054100Z
DTSTART:20110414T150000
LOCATION:https://www.aan.com/msa/Public/Events/GetEventURL/2238
SEQUENCE:0
SUMMARY:AAN: Behavioral Neurology: Language\, Emotion\, and Social Cogniti
 on
UID:675165dc-80da-4bc9-b33b-0293365ff77f
END:VEVENT
END:VCALENDAR
