BEGIN:VCALENDAR
PRODID:-//github.com/rianjs/ical.net//NONSGML ical.net 4.0//EN
VERSION:2.0
BEGIN:VEVENT
DESCRIPTION:2011 Annual Meeting by the American Academy of Neurology\n\nTi
 tle: Critical Care\n\nAccess URL: https://www.aan.com/msa/Public/Events/G
 etEventURL/2240\n\nLearn More About This Event: https://www.aan.com/msa/P
 ublic/Events/Details/2240
DTEND:20110414T163000
DTSTAMP:20260424T054101Z
DTSTART:20110414T150000
LOCATION:https://www.aan.com/msa/Public/Events/GetEventURL/2240
SEQUENCE:0
SUMMARY:AAN: Critical Care
UID:5c1c043f-0de5-429d-a203-fd9d95b1470e
END:VEVENT
END:VCALENDAR
