BEGIN:VCALENDAR
PRODID:-//github.com/rianjs/ical.net//NONSGML ical.net 4.0//EN
VERSION:2.0
BEGIN:VTIMEZONE
TZID:Central Standard Time
X-LIC-LOCATION:America/Chicago
BEGIN:STANDARD
DTSTART:20241103T020000
RRULE:FREQ=YEARLY;BYDAY=1SU;BYMONTH=11
TZNAME:CST
TZOFFSETFROM:-0500
TZOFFSETTO:-0600
END:STANDARD
BEGIN:DAYLIGHT
DTSTART:20250309T020000
RRULE:FREQ=YEARLY;BYDAY=2SU;BYMONTH=3
TZNAME:CDT
TZOFFSETFROM:-0600
TZOFFSETTO:-0500
END:DAYLIGHT
END:VTIMEZONE
BEGIN:VEVENT
DESCRIPTION:2026 Annual Meeting by the American Academy of Neurology\n\nTi
 tle: Leadership Program Meal Room\n\nDescription: Meal functions for all 
 leadership programs.\n\nLearn More About This Event: https://www.aan.com/
 msa/Public/Events/Details/22404
DTEND;TZID=Central Standard Time:20260419T170000
DTSTAMP:20260423T215335Z
DTSTART;TZID=Central Standard Time:20260419T073000
LOCATION:Marriott Marquis Chicago |  Architecture
SEQUENCE:0
SUMMARY:AAN: Leadership Program Meal Room
UID:5a2b0eae-cbb3-4ff0-bd59-598129bd581b
END:VEVENT
END:VCALENDAR
