BEGIN:VCALENDAR
PRODID:-//github.com/rianjs/ical.net//NONSGML ical.net 4.0//EN
VERSION:2.0
BEGIN:VEVENT
DESCRIPTION:2011 Annual Meeting by the American Academy of Neurology\n\nTi
 tle: Poster Session 04\n\nAccess URL: https://www.aan.com/msa/Public/Even
 ts/GetEventURL/2242\n\nLearn More About This Event: https://www.aan.com/m
 sa/Public/Events/Details/2242
DTEND:20110413T120000
DTSTAMP:20260424T053957Z
DTSTART:20110413T073000
LOCATION:https://www.aan.com/msa/Public/Events/GetEventURL/2242
SEQUENCE:0
SUMMARY:AAN: Poster Session 04
UID:3d185efa-5671-4b13-8dd9-6318e500aa47
END:VEVENT
END:VCALENDAR
