BEGIN:VCALENDAR
PRODID:-//github.com/rianjs/ical.net//NONSGML ical.net 4.0//EN
VERSION:2.0
BEGIN:VTIMEZONE
TZID:Central Standard Time
X-LIC-LOCATION:America/Chicago
BEGIN:STANDARD
DTSTART:20241103T020000
RRULE:FREQ=YEARLY;BYDAY=1SU;BYMONTH=11
TZNAME:CST
TZOFFSETFROM:-0500
TZOFFSETTO:-0600
END:STANDARD
BEGIN:DAYLIGHT
DTSTART:20250309T020000
RRULE:FREQ=YEARLY;BYDAY=2SU;BYMONTH=3
TZNAME:CDT
TZOFFSETFROM:-0600
TZOFFSETTO:-0500
END:DAYLIGHT
END:VTIMEZONE
BEGIN:VEVENT
DESCRIPTION:2026 Annual Meeting by the American Academy of Neurology\n\nTi
 tle: Guidelines Subcommittee Meeting (Social)\n\nDescription: Post-busine
 ss meeting social event for members. Open to parent committee (Quality Co
 mmittee) members and other AAN Quality/Practice  staff. \n\nLearn More Ab
 out This Event: https://www.aan.com/msa/Public/Events/Details/22421
DTEND;TZID=Central Standard Time:20260420T180000
DTSTAMP:20260424T122113Z
DTSTART;TZID=Central Standard Time:20260420T170000
LOCATION:Marriott Marquis Chicago | Literature
SEQUENCE:0
SUMMARY:AAN: Guidelines Subcommittee Meeting (Social)
UID:432e6ed7-2e87-4830-bc5c-2b06478f7151
END:VEVENT
END:VCALENDAR
