BEGIN:VCALENDAR
PRODID:-//github.com/rianjs/ical.net//NONSGML ical.net 4.0//EN
VERSION:2.0
BEGIN:VEVENT
DESCRIPTION:2011 Annual Meeting by the American Academy of Neurology\n\nTi
 tle: Poster Session 06\n\nAccess URL: https://www.aan.com/msa/Public/Even
 ts/GetEventURL/2244\n\nLearn More About This Event: https://www.aan.com/m
 sa/Public/Events/Details/2244
DTEND:20110414T120000
DTSTAMP:20260424T053951Z
DTSTART:20110414T073000
LOCATION:https://www.aan.com/msa/Public/Events/GetEventURL/2244
SEQUENCE:0
SUMMARY:AAN: Poster Session 06
UID:826d2b54-ddaf-4ab0-87bb-68a31c617f3c
END:VEVENT
END:VCALENDAR
