BEGIN:VCALENDAR
PRODID:-//github.com/rianjs/ical.net//NONSGML ical.net 4.0//EN
VERSION:2.0
BEGIN:VEVENT
DESCRIPTION:2011 Annual Meeting by the American Academy of Neurology\n\nTi
 tle: Poster Session 01\n\nAccess URL: https://www.aan.com/msa/Public/Even
 ts/GetEventURL/2245\n\nLearn More About This Event: https://www.aan.com/m
 sa/Public/Events/Details/2245
DTEND:20110411T183000
DTSTAMP:20260424T053921Z
DTSTART:20110411T140000
LOCATION:https://www.aan.com/msa/Public/Events/GetEventURL/2245
SEQUENCE:0
SUMMARY:AAN: Poster Session 01
UID:12b07293-5438-4075-8fb2-22dff68ab16b
END:VEVENT
END:VCALENDAR
