BEGIN:VCALENDAR
PRODID:-//github.com/rianjs/ical.net//NONSGML ical.net 4.0//EN
VERSION:2.0
BEGIN:VEVENT
DESCRIPTION:2011 Annual Meeting by the American Academy of Neurology\n\nTi
 tle: Poster Session 02\n\nAccess URL: https://www.aan.com/msa/Public/Even
 ts/GetEventURL/2246\n\nLearn More About This Event: https://www.aan.com/m
 sa/Public/Events/Details/2246
DTEND:20110412T120000
DTSTAMP:20260424T054102Z
DTSTART:20110412T073000
LOCATION:https://www.aan.com/msa/Public/Events/GetEventURL/2246
SEQUENCE:0
SUMMARY:AAN: Poster Session 02
UID:b96bc9f2-37df-40bd-9e6b-ab52082b7c6a
END:VEVENT
END:VCALENDAR
