BEGIN:VCALENDAR
PRODID:-//github.com/rianjs/ical.net//NONSGML ical.net 4.0//EN
VERSION:2.0
BEGIN:VTIMEZONE
TZID:Central Standard Time
X-LIC-LOCATION:America/Chicago
BEGIN:STANDARD
DTSTART:20241103T020000
RRULE:FREQ=YEARLY;BYDAY=1SU;BYMONTH=11
TZNAME:CST
TZOFFSETFROM:-0500
TZOFFSETTO:-0600
END:STANDARD
BEGIN:DAYLIGHT
DTSTART:20250309T020000
RRULE:FREQ=YEARLY;BYDAY=2SU;BYMONTH=3
TZNAME:CDT
TZOFFSETFROM:-0600
TZOFFSETTO:-0500
END:DAYLIGHT
END:VTIMEZONE
BEGIN:VEVENT
DESCRIPTION:2026 Annual Meeting by the American Academy of Neurology\n\nTi
 tle: AAN-NINDS-NIA Leadership Meeting\n\nDescription: This is the AAN-NIN
 DS-NIA annual in-person leadership meeting with the leaders of the AAN\, 
 NINDS\, and NIA. This is a closed meeting and not open to the public. Thi
 s is a VIP event. \n\nLearn More About This Event: https://www.aan.com/ms
 a/Public/Events/Details/22467
DTEND;TZID=Central Standard Time:20260418T084500
DTSTAMP:20260424T122210Z
DTSTART;TZID=Central Standard Time:20260418T063000
LOCATION:https://www.aan.com/msa/Public/Events/GetEventURL/22467
SEQUENCE:0
SUMMARY:AAN: AAN-NINDS-NIA Leadership Meeting
UID:7f7be2ed-92f1-46ec-926b-04dd7dd1f602
END:VEVENT
END:VCALENDAR
