BEGIN:VCALENDAR
PRODID:-//github.com/rianjs/ical.net//NONSGML ical.net 4.0//EN
VERSION:2.0
BEGIN:VEVENT
DESCRIPTION:2011 Annual Meeting by the American Academy of Neurology\n\nTi
 tle: Poster Session 03\n\nAccess URL: https://www.aan.com/msa/Public/Even
 ts/GetEventURL/2247\n\nLearn More About This Event: https://www.aan.com/m
 sa/Public/Events/Details/2247
DTEND:20110412T183000
DTSTAMP:20260424T053921Z
DTSTART:20110412T140000
LOCATION:https://www.aan.com/msa/Public/Events/GetEventURL/2247
SEQUENCE:0
SUMMARY:AAN: Poster Session 03
UID:efa2a113-9854-4257-9eb5-e8c206fbc6d6
END:VEVENT
END:VCALENDAR
