BEGIN:VCALENDAR
PRODID:-//github.com/rianjs/ical.net//NONSGML ical.net 4.0//EN
VERSION:2.0
BEGIN:VTIMEZONE
TZID:Central Standard Time
X-LIC-LOCATION:America/Chicago
BEGIN:STANDARD
DTSTART:20241103T020000
RRULE:FREQ=YEARLY;BYDAY=1SU;BYMONTH=11
TZNAME:CST
TZOFFSETFROM:-0500
TZOFFSETTO:-0600
END:STANDARD
BEGIN:DAYLIGHT
DTSTART:20250309T020000
RRULE:FREQ=YEARLY;BYDAY=2SU;BYMONTH=3
TZNAME:CDT
TZOFFSETFROM:-0600
TZOFFSETTO:-0500
END:DAYLIGHT
END:VTIMEZONE
BEGIN:VEVENT
DESCRIPTION:2026 Annual Meeting by the American Academy of Neurology\n\nTi
 tle: Conference Subcommittee Meet and Greet - Director Mentor Program Lun
 ch\n\nDescription: Conference Subcommittee members can attend an optional
  lunch to connect with their fellow Subcommittee members.\n\nLearn More A
 bout This Event: https://www.aan.com/msa/Public/Events/Details/22491
DTEND;TZID=Central Standard Time:20260420T124500
DTSTAMP:20260423T213748Z
DTSTART;TZID=Central Standard Time:20260420T114500
LOCATION:Marriott Marquis Chicago | Dance
SEQUENCE:0
SUMMARY:AAN: Conference Subcommittee Meet and Greet - Director Mentor Prog
 ram Lunch
UID:56b5f095-7279-4143-b829-5f3d5a860010
END:VEVENT
END:VCALENDAR
