BEGIN:VCALENDAR
PRODID:-//github.com/rianjs/ical.net//NONSGML ical.net 4.0//EN
VERSION:2.0
BEGIN:VEVENT
DESCRIPTION:2011 Annual Meeting by the American Academy of Neurology\n\nTi
 tle: Aging and Dementia: Functional Neuroimaging Poster Discussion Sessio
 n\n\nAccess URL: https://www.aan.com/msa/Public/Events/GetEventURL/2251\n
 \nLearn More About This Event: https://www.aan.com/msa/Public/Events/Deta
 ils/2251
DTEND:20110412T183000
DTSTAMP:20260424T054140Z
DTSTART:20110412T140000
LOCATION:https://www.aan.com/msa/Public/Events/GetEventURL/2251
SEQUENCE:0
SUMMARY:AAN: Aging and Dementia: Functional Neuroimaging Poster Discussion
  Session
UID:f9d2e140-ea95-40ae-9d46-9bb315921d84
END:VEVENT
END:VCALENDAR
