BEGIN:VCALENDAR
PRODID:-//github.com/rianjs/ical.net//NONSGML ical.net 4.0//EN
VERSION:2.0
BEGIN:VEVENT
DESCRIPTION:2011 Annual Meeting by the American Academy of Neurology\n\nTi
 tle: Neuroendocrinology Highlights in the Field\n\nAccess URL: https://ww
 w.aan.com/msa/Public/Events/GetEventURL/2255\n\nLearn More About This Eve
 nt: https://www.aan.com/msa/Public/Events/Details/2255
DTEND:20110413T191500
DTSTAMP:20260424T053923Z
DTSTART:20110413T181500
LOCATION:https://www.aan.com/msa/Public/Events/GetEventURL/2255
SEQUENCE:0
SUMMARY:AAN: Neuroendocrinology Highlights in the Field
UID:31a11c10-8f0c-4769-9cb4-29e82f22af97
END:VEVENT
END:VCALENDAR
