BEGIN:VCALENDAR
PRODID:-//github.com/rianjs/ical.net//NONSGML ical.net 4.0//EN
VERSION:2.0
BEGIN:VEVENT
DESCRIPTION:2011 Annual Meeting by the American Academy of Neurology\n\nTi
 tle: Sports Neurology Highlights in the Field\n\nAccess URL: https://www.
 aan.com/msa/Public/Events/GetEventURL/2258\n\nLearn More About This Event
 : https://www.aan.com/msa/Public/Events/Details/2258
DTEND:20110413T191500
DTSTAMP:20260424T054100Z
DTSTART:20110413T181500
LOCATION:https://www.aan.com/msa/Public/Events/GetEventURL/2258
SEQUENCE:0
SUMMARY:AAN: Sports Neurology Highlights in the Field
UID:0ce319cc-b53b-446f-9819-d28712829c01
END:VEVENT
END:VCALENDAR
