BEGIN:VCALENDAR
PRODID:-//github.com/rianjs/ical.net//NONSGML ical.net 4.0//EN
VERSION:2.0
BEGIN:VEVENT
DESCRIPTION:2011 Annual Meeting by the American Academy of Neurology\n\nTi
 tle: Multiple Sclerosis Highlights in the Field\n\nAccess URL: https://ww
 w.aan.com/msa/Public/Events/GetEventURL/2259\n\nLearn More About This Eve
 nt: https://www.aan.com/msa/Public/Events/Details/2259
DTEND:20110413T191500
DTSTAMP:20260424T054059Z
DTSTART:20110413T181500
LOCATION:https://www.aan.com/msa/Public/Events/GetEventURL/2259
SEQUENCE:0
SUMMARY:AAN: Multiple Sclerosis Highlights in the Field
UID:6224b0f6-67d6-4cfd-a664-e44a6980a224
END:VEVENT
END:VCALENDAR
