BEGIN:VCALENDAR
PRODID:-//github.com/rianjs/ical.net//NONSGML ical.net 4.0//EN
VERSION:2.0
BEGIN:VTIMEZONE
TZID:Central Standard Time
X-LIC-LOCATION:America/Chicago
BEGIN:STANDARD
DTSTART:20241103T020000
RRULE:FREQ=YEARLY;BYDAY=1SU;BYMONTH=11
TZNAME:CST
TZOFFSETFROM:-0500
TZOFFSETTO:-0600
END:STANDARD
BEGIN:DAYLIGHT
DTSTART:20250309T020000
RRULE:FREQ=YEARLY;BYDAY=2SU;BYMONTH=3
TZNAME:CDT
TZOFFSETFROM:-0600
TZOFFSETTO:-0500
END:DAYLIGHT
END:VTIMEZONE
BEGIN:VEVENT
DESCRIPTION:2026 Annual Meeting by the American Academy of Neurology\n\nTi
 tle: University of Miami Department of Neurology Alumni Reception\n\nDesc
 ription: Alumni event for the University of Miami\, Department of Neurolo
 gy alumni\, faculty\, residents and fellows.\n\nLearn More About This Eve
 nt: https://www.aan.com/msa/Public/Events/Details/22610
DTEND;TZID=Central Standard Time:20260421T193000
DTSTAMP:20260424T021829Z
DTSTART;TZID=Central Standard Time:20260421T173000
LOCATION:Marriott Marquis Chicago |  Marina City
SEQUENCE:0
SUMMARY:AAN: University of Miami Department of Neurology Alumni Reception
UID:de89550f-138a-468a-9ef8-1c305a246e58
END:VEVENT
END:VCALENDAR
