BEGIN:VCALENDAR
PRODID:-//github.com/rianjs/ical.net//NONSGML ical.net 4.0//EN
VERSION:2.0
BEGIN:VTIMEZONE
TZID:Central Standard Time
X-LIC-LOCATION:America/Chicago
BEGIN:STANDARD
DTSTART:20241103T020000
RRULE:FREQ=YEARLY;BYDAY=1SU;BYMONTH=11
TZNAME:CST
TZOFFSETFROM:-0500
TZOFFSETTO:-0600
END:STANDARD
BEGIN:DAYLIGHT
DTSTART:20250309T020000
RRULE:FREQ=YEARLY;BYDAY=2SU;BYMONTH=3
TZNAME:CDT
TZOFFSETFROM:-0600
TZOFFSETTO:-0500
END:DAYLIGHT
END:VTIMEZONE
BEGIN:VEVENT
DESCRIPTION:2026 Annual Meeting by the American Academy of Neurology\n\nTi
 tle: Clinical Trials Methodology Course Alumni Reception \n\nDescription:
  The AAN supports this group with an alumni reception at the ann mtg.  AA
 N program staff do not usually attend.  Plan on 35 people with light apps
  \n\nLearn More About This Event: https://www.aan.com/msa/Public/Events/D
 etails/22618
DTEND;TZID=Central Standard Time:20260420T183000
DTSTAMP:20260423T214315Z
DTSTART;TZID=Central Standard Time:20260420T174500
LOCATION:McCormick Place West | W193b
SEQUENCE:0
SUMMARY:AAN: Clinical Trials Methodology Course Alumni Reception
UID:a5453bd6-dd5a-444b-aea9-6756a1b7e8b0
END:VEVENT
END:VCALENDAR
