BEGIN:VCALENDAR
PRODID:-//github.com/rianjs/ical.net//NONSGML ical.net 4.0//EN
VERSION:2.0
BEGIN:VEVENT
DESCRIPTION:2011 Annual Meeting by the American Academy of Neurology\n\nTi
 tle: Epilepsy Highlights in the Field\n\nAccess URL: https://www.aan.com/
 msa/Public/Events/GetEventURL/2263\n\nLearn More About This Event: https:
 //www.aan.com/msa/Public/Events/Details/2263
DTEND:20110413T191500
DTSTAMP:20260424T054036Z
DTSTART:20110413T181500
LOCATION:https://www.aan.com/msa/Public/Events/GetEventURL/2263
SEQUENCE:0
SUMMARY:AAN: Epilepsy Highlights in the Field
UID:34cb30cb-6670-4d0a-8da2-62d2d224ef3c
END:VEVENT
END:VCALENDAR
