BEGIN:VCALENDAR
PRODID:-//github.com/rianjs/ical.net//NONSGML ical.net 4.0//EN
VERSION:2.0
BEGIN:VEVENT
DESCRIPTION:2011 Annual Meeting by the American Academy of Neurology\n\nTi
 tle: Clinical Neurophysiology Highlights in the Field\n\nAccess URL: http
 s://www.aan.com/msa/Public/Events/GetEventURL/2265\n\nLearn More About Th
 is Event: https://www.aan.com/msa/Public/Events/Details/2265
DTEND:20110414T191500
DTSTAMP:20260424T053952Z
DTSTART:20110414T181500
LOCATION:https://www.aan.com/msa/Public/Events/GetEventURL/2265
SEQUENCE:0
SUMMARY:AAN: Clinical Neurophysiology Highlights in the Field
UID:24b4ccce-3303-4fa9-a7f8-c26a1f485a8b
END:VEVENT
END:VCALENDAR
