BEGIN:VCALENDAR
PRODID:-//github.com/rianjs/ical.net//NONSGML ical.net 4.0//EN
VERSION:2.0
BEGIN:VEVENT
DESCRIPTION:2011 Annual Meeting by the American Academy of Neurology\n\nTi
 tle: Movement Disorders Highlights in the Field\n\nAccess URL: https://ww
 w.aan.com/msa/Public/Events/GetEventURL/2266\n\nLearn More About This Eve
 nt: https://www.aan.com/msa/Public/Events/Details/2266
DTEND:20110414T191500
DTSTAMP:20260424T054138Z
DTSTART:20110414T181500
LOCATION:https://www.aan.com/msa/Public/Events/GetEventURL/2266
SEQUENCE:0
SUMMARY:AAN: Movement Disorders Highlights in the Field
UID:42476694-705c-4ba3-9c31-a6def4300641
END:VEVENT
END:VCALENDAR
