BEGIN:VCALENDAR
PRODID:-//github.com/rianjs/ical.net//NONSGML ical.net 4.0//EN
VERSION:2.0
BEGIN:VTIMEZONE
TZID:Central Standard Time
X-LIC-LOCATION:America/Chicago
BEGIN:STANDARD
DTSTART:20241103T020000
RRULE:FREQ=YEARLY;BYDAY=1SU;BYMONTH=11
TZNAME:CST
TZOFFSETFROM:-0500
TZOFFSETTO:-0600
END:STANDARD
BEGIN:DAYLIGHT
DTSTART:20250309T020000
RRULE:FREQ=YEARLY;BYDAY=2SU;BYMONTH=3
TZNAME:CDT
TZOFFSETFROM:-0600
TZOFFSETTO:-0500
END:DAYLIGHT
END:VTIMEZONE
BEGIN:VEVENT
DESCRIPTION:2026 Annual Meeting by the American Academy of Neurology\n\nTi
 tle: argenx Ancillary Room Space (Argonaut Room/Collegium Room))\n\nDescr
 iption: Argonaut Room is the argenx internal meeting space for the team t
 o use at their discretion throughout the conference. If at a convenient l
 ocation we would look to repurpose this room for 1 Collegium Meeting on o
 ne date within the period requested.\n\nLearn More About This Event: http
 s://www.aan.com/msa/Public/Events/Details/22676
DTEND;TZID=Central Standard Time;VALUE=DATE:20260421
DTSTAMP:20260424T122211Z
DTSTART;TZID=Central Standard Time;VALUE=DATE:20260417
LOCATION:Palmer House a Hilton Hotel | Assigned by hotel
SEQUENCE:0
SUMMARY:AAN: argenx Ancillary Room Space (Argonaut Room/Collegium Room))
UID:5d99e866-9637-471b-be26-24cda34be4a7
END:VEVENT
END:VCALENDAR
