BEGIN:VCALENDAR
PRODID:-//github.com/rianjs/ical.net//NONSGML ical.net 4.0//EN
VERSION:2.0
BEGIN:VTIMEZONE
TZID:Central Standard Time
X-LIC-LOCATION:America/Chicago
BEGIN:STANDARD
DTSTART:20241103T020000
RRULE:FREQ=YEARLY;BYDAY=1SU;BYMONTH=11
TZNAME:CST
TZOFFSETFROM:-0500
TZOFFSETTO:-0600
END:STANDARD
BEGIN:DAYLIGHT
DTSTART:20250309T020000
RRULE:FREQ=YEARLY;BYDAY=2SU;BYMONTH=3
TZNAME:CDT
TZOFFSETFROM:-0600
TZOFFSETTO:-0500
END:DAYLIGHT
END:VTIMEZONE
BEGIN:VEVENT
DESCRIPTION:2026 Annual Meeting by the American Academy of Neurology\n\nTi
 tle: General Neurology & the University of Nebraska Experience (Academic 
 Hub)\n\nAccess URL: https://www.aan.com/msa/Public/Events/GetEventURL/226
 79\n\nLearn More About This Event: https://www.aan.com/msa/Public/Events/
 Details/22679
DTEND;TZID=Central Standard Time:20260420T084500
DTSTAMP:20260423T213615Z
DTSTART;TZID=Central Standard Time:20260420T080000
LOCATION:McCormick Place West | W192b
SEQUENCE:0
SUMMARY:AAN: General Neurology & the University of Nebraska Experience (Ac
 ademic Hub)
UID:7524ae48-ea3d-4278-ba7c-3890ebaf3d13
END:VEVENT
END:VCALENDAR
