BEGIN:VCALENDAR
PRODID:-//github.com/rianjs/ical.net//NONSGML ical.net 4.0//EN
VERSION:2.0
BEGIN:VTIMEZONE
TZID:Central Standard Time
X-LIC-LOCATION:America/Chicago
BEGIN:STANDARD
DTSTART:20241103T020000
RRULE:FREQ=YEARLY;BYDAY=1SU;BYMONTH=11
TZNAME:CST
TZOFFSETFROM:-0500
TZOFFSETTO:-0600
END:STANDARD
BEGIN:DAYLIGHT
DTSTART:20250309T020000
RRULE:FREQ=YEARLY;BYDAY=2SU;BYMONTH=3
TZNAME:CDT
TZOFFSETFROM:-0600
TZOFFSETTO:-0500
END:DAYLIGHT
END:VTIMEZONE
BEGIN:VEVENT
DESCRIPTION:2026 Annual Meeting by the American Academy of Neurology\n\nTi
 tle: Restorative Practice & Self Stewardship (Academic Hub)\n\nAccess URL
 : https://www.aan.com/msa/Public/Events/GetEventURL/22689\n\nLearn More A
 bout This Event: https://www.aan.com/msa/Public/Events/Details/22689
DTEND;TZID=Central Standard Time:20260419T151500
DTSTAMP:20260424T122351Z
DTSTART;TZID=Central Standard Time:20260419T143000
LOCATION:McCormick Place West | W192b
SEQUENCE:0
SUMMARY:AAN: Restorative Practice & Self Stewardship (Academic Hub)
UID:734fa5ab-73db-4f64-9c28-6198120b791b
END:VEVENT
END:VCALENDAR
