BEGIN:VCALENDAR
PRODID:-//github.com/rianjs/ical.net//NONSGML ical.net 4.0//EN
VERSION:2.0
BEGIN:VEVENT
DESCRIPTION:2011 Annual Meeting by the American Academy of Neurology\n\nTi
 tle: Geriatric Neurology Highlights in the Field\n\nAccess URL: https://w
 ww.aan.com/msa/Public/Events/GetEventURL/2269\n\nLearn More About This Ev
 ent: https://www.aan.com/msa/Public/Events/Details/2269
DTEND:20110414T191500
DTSTAMP:20260424T054139Z
DTSTART:20110414T181500
LOCATION:https://www.aan.com/msa/Public/Events/GetEventURL/2269
SEQUENCE:0
SUMMARY:AAN: Geriatric Neurology Highlights in the Field
UID:5cba2854-e9b7-498e-a86b-8e5a70646a8e
END:VEVENT
END:VCALENDAR
