BEGIN:VCALENDAR
PRODID:-//github.com/rianjs/ical.net//NONSGML ical.net 4.0//EN
VERSION:2.0
BEGIN:VEVENT
DESCRIPTION:2011 Annual Meeting by the American Academy of Neurology\n\nTi
 tle: Neuroepidemiology Highlights in the Field\n\nAccess URL: https://www
 .aan.com/msa/Public/Events/GetEventURL/2272\n\nLearn More About This Even
 t: https://www.aan.com/msa/Public/Events/Details/2272
DTEND:20110414T191500
DTSTAMP:20260424T054139Z
DTSTART:20110414T181500
LOCATION:https://www.aan.com/msa/Public/Events/GetEventURL/2272
SEQUENCE:0
SUMMARY:AAN: Neuroepidemiology Highlights in the Field
UID:68d89ae1-cf9f-4af6-befd-d8862d1825c0
END:VEVENT
END:VCALENDAR
