BEGIN:VCALENDAR
PRODID:-//github.com/rianjs/ical.net//NONSGML ical.net 4.0//EN
VERSION:2.0
BEGIN:VTIMEZONE
TZID:Central Standard Time
X-LIC-LOCATION:America/Chicago
BEGIN:STANDARD
DTSTART:20241103T020000
RRULE:FREQ=YEARLY;BYDAY=1SU;BYMONTH=11
TZNAME:CST
TZOFFSETFROM:-0500
TZOFFSETTO:-0600
END:STANDARD
BEGIN:DAYLIGHT
DTSTART:20250309T020000
RRULE:FREQ=YEARLY;BYDAY=2SU;BYMONTH=3
TZNAME:CDT
TZOFFSETFROM:-0600
TZOFFSETTO:-0500
END:DAYLIGHT
END:VTIMEZONE
BEGIN:VEVENT
DESCRIPTION:2026 Annual Meeting by the American Academy of Neurology\n\nTi
 tle: Harvard Neurology Alumni Reception\n\nDescription: reception\, no ne
 ed a/v\, appetizers and drinks.\n\nLearn More About This Event: https://w
 ww.aan.com/msa/Public/Events/Details/22720
DTEND;TZID=Central Standard Time:20260421T193000
DTSTAMP:20260424T072258Z
DTSTART;TZID=Central Standard Time:20260421T173000
LOCATION:Marriott Marquis Chicago |  George Pullman
SEQUENCE:0
SUMMARY:AAN: Harvard Neurology Alumni Reception
UID:b4a0f64c-5a39-4bfc-8e51-bbd3314fbdb6
END:VEVENT
END:VCALENDAR
