BEGIN:VCALENDAR
PRODID:-//github.com/rianjs/ical.net//NONSGML ical.net 4.0//EN
VERSION:2.0
BEGIN:VTIMEZONE
TZID:Central Standard Time
X-LIC-LOCATION:America/Chicago
BEGIN:STANDARD
DTSTART:20241103T020000
RRULE:FREQ=YEARLY;BYDAY=1SU;BYMONTH=11
TZNAME:CST
TZOFFSETFROM:-0500
TZOFFSETTO:-0600
END:STANDARD
BEGIN:DAYLIGHT
DTSTART:20250309T020000
RRULE:FREQ=YEARLY;BYDAY=2SU;BYMONTH=3
TZNAME:CDT
TZOFFSETFROM:-0600
TZOFFSETTO:-0500
END:DAYLIGHT
END:VTIMEZONE
BEGIN:VEVENT
DESCRIPTION:2026 Annual Meeting by the American Academy of Neurology\n\nTi
 tle: CANCELED: From Rounds to Reels: Case-based Neurology (HeadTalks)\n\n
 Access URL: https://www.aan.com/msa/Public/Events/GetEventURL/22722\n\nLe
 arn More About This Event: https://www.aan.com/msa/Public/Events/Details/
 22722
DTEND;TZID=Central Standard Time:20260418T134500
DTSTAMP:20260424T122149Z
DTSTART;TZID=Central Standard Time:20260418T130000
LOCATION:McCormick Place West | F2 Lobby
SEQUENCE:0
SUMMARY:AAN: CANCELED: From Rounds to Reels: Case-based Neurology (HeadTal
 ks)
UID:0133b073-b0f7-4ba3-bca2-c4122d33d87e
END:VEVENT
END:VCALENDAR
