BEGIN:VCALENDAR
PRODID:-//github.com/rianjs/ical.net//NONSGML ical.net 4.0//EN
VERSION:2.0
BEGIN:VEVENT
DESCRIPTION:2011 Annual Meeting by the American Academy of Neurology\n\nTi
 tle: Presidential Plenary Session\n\nAccess URL: https://www.aan.com/msa/
 Public/Events/GetEventURL/2273\n\nLearn More About This Event: https://ww
 w.aan.com/msa/Public/Events/Details/2273
DTEND:20110412T120000
DTSTAMP:20260424T054036Z
DTSTART:20110412T090000
LOCATION:https://www.aan.com/msa/Public/Events/GetEventURL/2273
SEQUENCE:0
SUMMARY:AAN: Presidential Plenary Session
UID:437b31a0-7a70-4aa9-97ec-42a159e0692f
END:VEVENT
END:VCALENDAR
