BEGIN:VCALENDAR
PRODID:-//github.com/rianjs/ical.net//NONSGML ical.net 4.0//EN
VERSION:2.0
BEGIN:VTIMEZONE
TZID:Central Standard Time
X-LIC-LOCATION:America/Chicago
BEGIN:STANDARD
DTSTART:20241103T020000
RRULE:FREQ=YEARLY;BYDAY=1SU;BYMONTH=11
TZNAME:CST
TZOFFSETFROM:-0500
TZOFFSETTO:-0600
END:STANDARD
BEGIN:DAYLIGHT
DTSTART:20250309T020000
RRULE:FREQ=YEARLY;BYDAY=2SU;BYMONTH=3
TZNAME:CDT
TZOFFSETFROM:-0600
TZOFFSETTO:-0500
END:DAYLIGHT
END:VTIMEZONE
BEGIN:VEVENT
DESCRIPTION:2026 Annual Meeting by the American Academy of Neurology\n\nTi
 tle: Amgen AAN Commercial Advisory Board\n\nDescription: Advisory board m
 eeting for participants attending AAN Conference.\n\nLearn More About Thi
 s Event: https://www.aan.com/msa/Public/Events/Details/22745
DTEND;TZID=Central Standard Time:20260417T150000
DTSTAMP:20260423T213324Z
DTSTART;TZID=Central Standard Time:20260417T080000
LOCATION:Sheraton Grand Chicago | Assigned by hotel
SEQUENCE:0
SUMMARY:AAN: Amgen AAN Commercial Advisory Board
UID:521f7756-450b-4941-8880-de02ea2efbe9
END:VEVENT
END:VCALENDAR
