BEGIN:VCALENDAR
PRODID:-//github.com/rianjs/ical.net//NONSGML ical.net 4.0//EN
VERSION:2.0
BEGIN:VTIMEZONE
TZID:Central Standard Time
X-LIC-LOCATION:America/Chicago
BEGIN:STANDARD
DTSTART:20241103T020000
RRULE:FREQ=YEARLY;BYDAY=1SU;BYMONTH=11
TZNAME:CST
TZOFFSETFROM:-0500
TZOFFSETTO:-0600
END:STANDARD
BEGIN:DAYLIGHT
DTSTART:20250309T020000
RRULE:FREQ=YEARLY;BYDAY=2SU;BYMONTH=3
TZNAME:CDT
TZOFFSETFROM:-0600
TZOFFSETTO:-0500
END:DAYLIGHT
END:VTIMEZONE
BEGIN:VEVENT
DESCRIPTION:2026 Annual Meeting by the American Academy of Neurology\n\nTi
 tle: Health Care Equity Program Alumni Event\n\nDescription: This event i
 s for alumni of the Health Care Equity Program. This is a closed event.\n
 \nLearn More About This Event: https://www.aan.com/msa/Public/Events/Deta
 ils/22761
DTEND;TZID=Central Standard Time:20260419T160000
DTSTAMP:20260423T214039Z
DTSTART;TZID=Central Standard Time:20260419T150000
LOCATION:Marriott Marquis Chicago |  Analysis
SEQUENCE:0
SUMMARY:AAN: Health Care Equity Program Alumni Event
UID:0f206c23-b132-4b6f-b4f5-e4c2962b6093
END:VEVENT
END:VCALENDAR
