BEGIN:VCALENDAR
PRODID:-//github.com/rianjs/ical.net//NONSGML ical.net 4.0//EN
VERSION:2.0
BEGIN:VTIMEZONE
TZID:Central Standard Time
X-LIC-LOCATION:America/Chicago
BEGIN:STANDARD
DTSTART:20241103T020000
RRULE:FREQ=YEARLY;BYDAY=1SU;BYMONTH=11
TZNAME:CST
TZOFFSETFROM:-0500
TZOFFSETTO:-0600
END:STANDARD
BEGIN:DAYLIGHT
DTSTART:20250309T020000
RRULE:FREQ=YEARLY;BYDAY=2SU;BYMONTH=3
TZNAME:CDT
TZOFFSETFROM:-0600
TZOFFSETTO:-0500
END:DAYLIGHT
END:VTIMEZONE
BEGIN:VEVENT
DESCRIPTION:2026 Annual Meeting by the American Academy of Neurology\n\nTi
 tle: Lunch for Health Care Equity Program cohort\n\nDescription: Lunch fo
 r Health Care Equity Program Kick-off attendees as we finish setting up f
 or the Symposium in the same room.\n\nLearn More About This Event: https:
 //www.aan.com/msa/Public/Events/Details/22762
DTEND;TZID=Central Standard Time:20260420T124500
DTSTAMP:20260423T213815Z
DTSTART;TZID=Central Standard Time:20260420T114500
LOCATION:McCormick Place West | W196b
SEQUENCE:0
SUMMARY:AAN: Lunch for Health Care Equity Program cohort
UID:b781ab2e-4c78-4238-a495-745007b900e1
END:VEVENT
END:VCALENDAR
