BEGIN:VCALENDAR
PRODID:-//github.com/rianjs/ical.net//NONSGML ical.net 4.0//EN
VERSION:2.0
BEGIN:VTIMEZONE
TZID:Central Standard Time
X-LIC-LOCATION:America/Chicago
BEGIN:STANDARD
DTSTART:20241103T020000
RRULE:FREQ=YEARLY;BYDAY=1SU;BYMONTH=11
TZNAME:CST
TZOFFSETFROM:-0500
TZOFFSETTO:-0600
END:STANDARD
BEGIN:DAYLIGHT
DTSTART:20250309T020000
RRULE:FREQ=YEARLY;BYDAY=2SU;BYMONTH=3
TZNAME:CDT
TZOFFSETFROM:-0600
TZOFFSETTO:-0500
END:DAYLIGHT
END:VTIMEZONE
BEGIN:VEVENT
DESCRIPTION:2026 Annual Meeting by the American Academy of Neurology\n\nTi
 tle: AINA Annual Dinner\n\nDescription: AINA's Annual Meeting & Dinner pr
 ovides an opportunity for US members and our Indian colleagues to gather.
   During the meeting there are association updates\, networking opportuni
 ties\, awards presentations and guests enjoy an Indian meal.\n\nLearn Mor
 e About This Event: https://www.aan.com/msa/Public/Events/Details/22765
DTEND;TZID=Central Standard Time:20260420T220000
DTSTAMP:20260424T122115Z
DTSTART;TZID=Central Standard Time:20260420T180000
LOCATION:Sheraton Grand Chicago | Assigned by hotel
SEQUENCE:0
SUMMARY:AAN: AINA Annual Dinner
UID:19f4b84b-e6d6-4487-bc49-4ab12bd78d7f
END:VEVENT
END:VCALENDAR
