BEGIN:VCALENDAR
PRODID:-//github.com/rianjs/ical.net//NONSGML ical.net 4.0//EN
VERSION:2.0
BEGIN:VTIMEZONE
TZID:Central Standard Time
X-LIC-LOCATION:America/Chicago
BEGIN:STANDARD
DTSTART:20241103T020000
RRULE:FREQ=YEARLY;BYDAY=1SU;BYMONTH=11
TZNAME:CST
TZOFFSETFROM:-0500
TZOFFSETTO:-0600
END:STANDARD
BEGIN:DAYLIGHT
DTSTART:20250309T020000
RRULE:FREQ=YEARLY;BYDAY=2SU;BYMONTH=3
TZNAME:CDT
TZOFFSETFROM:-0600
TZOFFSETTO:-0500
END:DAYLIGHT
END:VTIMEZONE
BEGIN:VEVENT
DESCRIPTION:2026 Annual Meeting by the American Academy of Neurology\n\nTi
 tle: argenx Early Investigator Meeting \n\nDescription: \n \nThis event i
 s designed for a select group of early-career investigators\, providing a
 n in-depth introduction to the pharmaceutical industry's structure. Atten
 dees will delve into career development paths and acquire essential knowl
 edge in clinical trial design and scientific research methodologies. Our 
 internal argenx physician speakers will share their experiences transitio
 ning from academic medicine to the biotech industry\, offering practical 
 examples of the varied collaborative opportunities. \n \nThe initial plan
  was to host this meeting over dinner\, featuring presentations by intern
 al argenx team members\, if permissible.\n \n\n\nLearn More About This Ev
 ent: https://www.aan.com/msa/Public/Events/Details/22769
DTEND;TZID=Central Standard Time:20260419T190000
DTSTAMP:20260423T213237Z
DTSTART;TZID=Central Standard Time:20260419T170000
LOCATION:Hyatt Regency McCormick Place Chicago | Michigan
SEQUENCE:0
SUMMARY:AAN: argenx Early Investigator Meeting
UID:7d914e04-1104-4ddb-988e-73fdab336a76
END:VEVENT
END:VCALENDAR
