BEGIN:VCALENDAR
PRODID:-//github.com/rianjs/ical.net//NONSGML ical.net 4.0//EN
VERSION:2.0
BEGIN:VTIMEZONE
TZID:Central Standard Time
X-LIC-LOCATION:America/Chicago
BEGIN:STANDARD
DTSTART:20241103T020000
RRULE:FREQ=YEARLY;BYDAY=1SU;BYMONTH=11
TZNAME:CST
TZOFFSETFROM:-0500
TZOFFSETTO:-0600
END:STANDARD
BEGIN:DAYLIGHT
DTSTART:20250309T020000
RRULE:FREQ=YEARLY;BYDAY=2SU;BYMONTH=3
TZNAME:CDT
TZOFFSETFROM:-0600
TZOFFSETTO:-0500
END:DAYLIGHT
END:VTIMEZONE
BEGIN:VEVENT
DESCRIPTION:2026 Annual Meeting by the American Academy of Neurology\n\nTi
 tle: Global Scholars and Future Ambassadors Award Luncheon\n\nDescription
 : This is a luncheon for Global Scholars and Future Ambassadors award rec
 ipients (20 people). The Board of Directors\, Presidential Line\, and sel
 ect additional physician members and staff will be invited. \n\nLearn Mor
 e About This Event: https://www.aan.com/msa/Public/Events/Details/22772
DTEND;TZID=Central Standard Time:20260420T130000
DTSTAMP:20260423T213614Z
DTSTART;TZID=Central Standard Time:20260420T113000
LOCATION:Marriott Marquis Chicago |  Architecture
SEQUENCE:0
SUMMARY:AAN: Global Scholars and Future Ambassadors Award Luncheon
UID:1efdb53d-e4d8-48d7-aa56-68e86b16f74d
END:VEVENT
END:VCALENDAR
