BEGIN:VCALENDAR
PRODID:-//github.com/rianjs/ical.net//NONSGML ical.net 4.0//EN
VERSION:2.0
BEGIN:VTIMEZONE
TZID:Central Standard Time
X-LIC-LOCATION:America/Chicago
BEGIN:STANDARD
DTSTART:20241103T020000
RRULE:FREQ=YEARLY;BYDAY=1SU;BYMONTH=11
TZNAME:CST
TZOFFSETFROM:-0500
TZOFFSETTO:-0600
END:STANDARD
BEGIN:DAYLIGHT
DTSTART:20250309T020000
RRULE:FREQ=YEARLY;BYDAY=2SU;BYMONTH=3
TZNAME:CDT
TZOFFSETFROM:-0600
TZOFFSETTO:-0500
END:DAYLIGHT
END:VTIMEZONE
BEGIN:VEVENT
DESCRIPTION:2026 Annual Meeting by the American Academy of Neurology\n\nTi
 tle: Global Leaders Roundtable\n\nDescription: This is a lunchtime gather
 ing of presidents of neurology societies around the world. The event typi
 cally includes some updates from leadership and interactive discussion as
  well as time for lunch.\n\nLearn More About This Event: https://www.aan.
 com/msa/Public/Events/Details/22773
DTEND;TZID=Central Standard Time:20260421T140000
DTSTAMP:20260424T100129Z
DTSTART;TZID=Central Standard Time:20260421T120000
LOCATION:McCormick Place West | W187ab
SEQUENCE:0
SUMMARY:AAN: Global Leaders Roundtable
UID:2206f987-f21e-4bda-b1aa-194eac7e435e
END:VEVENT
END:VCALENDAR
