BEGIN:VCALENDAR
PRODID:-//github.com/rianjs/ical.net//NONSGML ical.net 4.0//EN
VERSION:2.0
BEGIN:VTIMEZONE
TZID:Central Standard Time
X-LIC-LOCATION:America/Chicago
BEGIN:STANDARD
DTSTART:20241103T020000
RRULE:FREQ=YEARLY;BYDAY=1SU;BYMONTH=11
TZNAME:CST
TZOFFSETFROM:-0500
TZOFFSETTO:-0600
END:STANDARD
BEGIN:DAYLIGHT
DTSTART:20250309T020000
RRULE:FREQ=YEARLY;BYDAY=2SU;BYMONTH=3
TZNAME:CDT
TZOFFSETFROM:-0600
TZOFFSETTO:-0500
END:DAYLIGHT
END:VTIMEZONE
BEGIN:VEVENT
DESCRIPTION:2026 Annual Meeting by the American Academy of Neurology\n\nTi
 tle: Arvinas Internal Meetings\n\nDescription: The Arvinas team would lik
 e a place where they can hold internal meetings. They'd prefer to be clos
 e to the convention center so that they can get to and from the meeting r
 oom from the exhibit hall. \n\nLearn More About This Event: https://www.a
 an.com/msa/Public/Events/Details/22777
DTEND;TZID=Central Standard Time;VALUE=DATE:20260419
DTSTAMP:20260424T072327Z
DTSTART;TZID=Central Standard Time;VALUE=DATE:20260418
LOCATION:https://www.aan.com/msa/Public/Events/GetEventURL/22777
SEQUENCE:0
SUMMARY:AAN: Arvinas Internal Meetings
UID:db879782-6333-4492-8fbf-8be5b3dd8ffb
END:VEVENT
END:VCALENDAR
