BEGIN:VCALENDAR
PRODID:-//github.com/rianjs/ical.net//NONSGML ical.net 4.0//EN
VERSION:2.0
BEGIN:VTIMEZONE
TZID:Central Standard Time
X-LIC-LOCATION:America/Chicago
BEGIN:STANDARD
DTSTART:20241103T020000
RRULE:FREQ=YEARLY;BYDAY=1SU;BYMONTH=11
TZNAME:CST
TZOFFSETFROM:-0500
TZOFFSETTO:-0600
END:STANDARD
BEGIN:DAYLIGHT
DTSTART:20250309T020000
RRULE:FREQ=YEARLY;BYDAY=2SU;BYMONTH=3
TZNAME:CDT
TZOFFSETFROM:-0600
TZOFFSETTO:-0500
END:DAYLIGHT
END:VTIMEZONE
BEGIN:VEVENT
DESCRIPTION:2026 Annual Meeting by the American Academy of Neurology\n\nTi
 tle: Global Scholars and Future Ambassadors Coffee/Conversation\n\nDescri
 ption: This is a facilitated conversation/AM snack break for Global Schol
 ars and Future Ambassadors award recipients and select faculty/staff. \n\
 nLearn More About This Event: https://www.aan.com/msa/Public/Events/Detai
 ls/22782
DTEND;TZID=Central Standard Time:20260422T084500
DTSTAMP:20260424T021935Z
DTSTART;TZID=Central Standard Time:20260422T080000
LOCATION:McCormick Place West | W192b
SEQUENCE:0
SUMMARY:AAN: Global Scholars and Future Ambassadors Coffee/Conversation
UID:e9507f28-d2d1-42aa-b964-437136bbbfb9
END:VEVENT
END:VCALENDAR
