BEGIN:VCALENDAR
PRODID:-//github.com/rianjs/ical.net//NONSGML ical.net 4.0//EN
VERSION:2.0
BEGIN:VTIMEZONE
TZID:Central Standard Time
X-LIC-LOCATION:America/Chicago
BEGIN:STANDARD
DTSTART:20241103T020000
RRULE:FREQ=YEARLY;BYDAY=1SU;BYMONTH=11
TZNAME:CST
TZOFFSETFROM:-0500
TZOFFSETTO:-0600
END:STANDARD
BEGIN:DAYLIGHT
DTSTART:20250309T020000
RRULE:FREQ=YEARLY;BYDAY=2SU;BYMONTH=3
TZNAME:CDT
TZOFFSETFROM:-0600
TZOFFSETTO:-0500
END:DAYLIGHT
END:VTIMEZONE
BEGIN:VEVENT
DESCRIPTION:2026 Annual Meeting by the American Academy of Neurology\n\nTi
 tle: Building Trust\, Driving Performance: Administrative Tools for Culti
 vating Leadership Culture (Academic Hub)\n\nAccess URL: https://www.aan.c
 om/msa/Public/Events/GetEventURL/22791\n\nLearn More About This Event: ht
 tps://www.aan.com/msa/Public/Events/Details/22791
DTEND;TZID=Central Standard Time:20260422T134500
DTSTAMP:20260423T234612Z
DTSTART;TZID=Central Standard Time:20260422T130000
LOCATION:McCormick Place West | W192b
SEQUENCE:0
SUMMARY:AAN: Building Trust\, Driving Performance: Administrative Tools fo
 r Cultivating Leadership Culture (Academic Hub)
UID:4c327ada-c0ab-4a50-a05b-0065d5e79a05
END:VEVENT
END:VCALENDAR
