BEGIN:VCALENDAR
PRODID:-//github.com/rianjs/ical.net//NONSGML ical.net 4.0//EN
VERSION:2.0
BEGIN:VTIMEZONE
TZID:Central Standard Time
X-LIC-LOCATION:America/Chicago
BEGIN:STANDARD
DTSTART:20241103T020000
RRULE:FREQ=YEARLY;BYDAY=1SU;BYMONTH=11
TZNAME:CST
TZOFFSETFROM:-0500
TZOFFSETTO:-0600
END:STANDARD
BEGIN:DAYLIGHT
DTSTART:20250309T020000
RRULE:FREQ=YEARLY;BYDAY=2SU;BYMONTH=3
TZNAME:CDT
TZOFFSETFROM:-0600
TZOFFSETTO:-0500
END:DAYLIGHT
END:VTIMEZONE
BEGIN:VEVENT
DESCRIPTION:2026 Annual Meeting by the American Academy of Neurology\n\nTi
 tle: CIDP Ambassador Program 10-Year Networking & Feedback Forum \n\nDesc
 ription: o	Grifols will host a CIDP Ambassador Program 10-Year Networking
  & Feedback Forum in conjunction with the AAN Annual Meeting. This event 
 will celebrate the milestone 10-year anniversary of the Ambassador Progra
 m\, provide a space for community networking\, and maintain and nurture t
 he relationships built through the program. In addition to the social and
  networking components\, we will lean in to gather informal insights and 
 feedback from participants on things such as CIDP Ambassador Program impr
 ovements\, shared decision making\, INCAT and patient reported outcomes\,
  as well as mechanism of action. The event will be held in an AAN-contrac
 ted hotel meeting space to ensure alignment with ICW guidelines.\n\n\n\nL
 earn More About This Event: https://www.aan.com/msa/Public/Events/Details
 /22800
DTEND;TZID=Central Standard Time:20260417T190000
DTSTAMP:20260423T213657Z
DTSTART;TZID=Central Standard Time:20260417T170000
LOCATION:Hilton Garden Inn Chicago McCormick Place | Assigned by hotel
SEQUENCE:0
SUMMARY:AAN: CIDP Ambassador Program 10-Year Networking & Feedback Forum
UID:b86bd208-8c08-4980-9f6b-a456e4a068e4
END:VEVENT
END:VCALENDAR
