BEGIN:VCALENDAR
PRODID:-//github.com/rianjs/ical.net//NONSGML ical.net 4.0//EN
VERSION:2.0
BEGIN:VTIMEZONE
TZID:Central Standard Time
X-LIC-LOCATION:America/Chicago
BEGIN:STANDARD
DTSTART:20241103T020000
RRULE:FREQ=YEARLY;BYDAY=1SU;BYMONTH=11
TZNAME:CST
TZOFFSETFROM:-0500
TZOFFSETTO:-0600
END:STANDARD
BEGIN:DAYLIGHT
DTSTART:20250309T020000
RRULE:FREQ=YEARLY;BYDAY=2SU;BYMONTH=3
TZNAME:CDT
TZOFFSETFROM:-0600
TZOFFSETTO:-0500
END:DAYLIGHT
END:VTIMEZONE
BEGIN:VEVENT
DESCRIPTION:2026 Annual Meeting by the American Academy of Neurology\n\nTi
 tle: Amneal Reception\n\nDescription: We will be bringing together HCPs a
 ttending the conference for a reception with the Amneal team. Guests will
  mingle over served appetizers and Amneal abstract posters. \n\nLearn Mor
 e About This Event: https://www.aan.com/msa/Public/Events/Details/22831
DTEND;TZID=Central Standard Time:20260420T203000
DTSTAMP:20260424T122114Z
DTSTART;TZID=Central Standard Time:20260420T183000
LOCATION:https://www.aan.com/msa/Public/Events/GetEventURL/22831
SEQUENCE:0
SUMMARY:AAN: Amneal Reception
UID:1d89a465-6931-490e-8a28-d4aac879753d
END:VEVENT
END:VCALENDAR
