BEGIN:VCALENDAR
PRODID:-//github.com/rianjs/ical.net//NONSGML ical.net 4.0//EN
VERSION:2.0
BEGIN:VTIMEZONE
TZID:Central Standard Time
X-LIC-LOCATION:America/Chicago
BEGIN:STANDARD
DTSTART:20241103T020000
RRULE:FREQ=YEARLY;BYDAY=1SU;BYMONTH=11
TZNAME:CST
TZOFFSETFROM:-0500
TZOFFSETTO:-0600
END:STANDARD
BEGIN:DAYLIGHT
DTSTART:20250309T020000
RRULE:FREQ=YEARLY;BYDAY=2SU;BYMONTH=3
TZNAME:CDT
TZOFFSETFROM:-0600
TZOFFSETTO:-0500
END:DAYLIGHT
END:VTIMEZONE
BEGIN:VEVENT
DESCRIPTION:2026 Annual Meeting by the American Academy of Neurology\n\nTi
 tle: Continuum Editor-in-Chief Interviews\n\nDescription: The Continuum E
 ditor-in-Chief Selection Committee will meet to interview final candidate
 s for the position.\n\nLearn More About This Event: https://www.aan.com/m
 sa/Public/Events/Details/22832
DTEND;TZID=Central Standard Time:20260419T154500
DTSTAMP:20260424T095538Z
DTSTART;TZID=Central Standard Time:20260419T134500
LOCATION:Marriott Marquis Chicago |  History
SEQUENCE:0
SUMMARY:AAN: Continuum Editor-in-Chief Interviews
UID:9c7fe929-0b6b-4039-bbdc-3a64cdc71ab0
END:VEVENT
END:VCALENDAR
