BEGIN:VCALENDAR
PRODID:-//github.com/rianjs/ical.net//NONSGML ical.net 4.0//EN
VERSION:2.0
BEGIN:VTIMEZONE
TZID:Central Standard Time
X-LIC-LOCATION:America/Chicago
BEGIN:STANDARD
DTSTART:20241103T020000
RRULE:FREQ=YEARLY;BYDAY=1SU;BYMONTH=11
TZNAME:CST
TZOFFSETFROM:-0500
TZOFFSETTO:-0600
END:STANDARD
BEGIN:DAYLIGHT
DTSTART:20250309T020000
RRULE:FREQ=YEARLY;BYDAY=2SU;BYMONTH=3
TZNAME:CDT
TZOFFSETFROM:-0600
TZOFFSETTO:-0500
END:DAYLIGHT
END:VTIMEZONE
BEGIN:VEVENT
DESCRIPTION:2026 Annual Meeting by the American Academy of Neurology\n\nTi
 tle: Conversation Corner: Advocating for Academics in 2026 (Academic Hub)
 \n\nAccess URL: https://www.aan.com/msa/Public/Events/GetEventURL/22840\n
 \nLearn More About This Event: https://www.aan.com/msa/Public/Events/Deta
 ils/22840
DTEND;TZID=Central Standard Time:20260418T154500
DTSTAMP:20260423T213238Z
DTSTART;TZID=Central Standard Time:20260418T151500
LOCATION:McCormick Place West | W192b
SEQUENCE:0
SUMMARY:AAN: Conversation Corner: Advocating for Academics in 2026 (Academ
 ic Hub)
UID:beb6a52c-ff9a-4129-8965-cba18411c02e
END:VEVENT
END:VCALENDAR
