BEGIN:VCALENDAR
PRODID:-//github.com/rianjs/ical.net//NONSGML ical.net 4.0//EN
VERSION:2.0
BEGIN:VTIMEZONE
TZID:Central Standard Time
X-LIC-LOCATION:America/Chicago
BEGIN:STANDARD
DTSTART:20241103T020000
RRULE:FREQ=YEARLY;BYDAY=1SU;BYMONTH=11
TZNAME:CST
TZOFFSETFROM:-0500
TZOFFSETTO:-0600
END:STANDARD
BEGIN:DAYLIGHT
DTSTART:20250309T020000
RRULE:FREQ=YEARLY;BYDAY=2SU;BYMONTH=3
TZNAME:CDT
TZOFFSETFROM:-0600
TZOFFSETTO:-0500
END:DAYLIGHT
END:VTIMEZONE
BEGIN:VEVENT
DESCRIPTION:2026 Annual Meeting by the American Academy of Neurology\n\nTi
 tle: Conversation Corner: Contract Negotiation (Academic Hub)\n\nAccess U
 RL: https://www.aan.com/msa/Public/Events/GetEventURL/22849\n\nLearn More
  About This Event: https://www.aan.com/msa/Public/Events/Details/22849
DTEND;TZID=Central Standard Time:20260421T131500
DTSTAMP:20260424T122019Z
DTSTART;TZID=Central Standard Time:20260421T124500
LOCATION:McCormick Place West | W192b
SEQUENCE:0
SUMMARY:AAN: Conversation Corner: Contract Negotiation (Academic Hub)
UID:7185af3b-37d8-48bc-966d-4ec2c5d249a4
END:VEVENT
END:VCALENDAR
