BEGIN:VCALENDAR
PRODID:-//github.com/rianjs/ical.net//NONSGML ical.net 4.0//EN
VERSION:2.0
BEGIN:VTIMEZONE
TZID:Central Standard Time
X-LIC-LOCATION:America/Chicago
BEGIN:STANDARD
DTSTART:20241103T020000
RRULE:FREQ=YEARLY;BYDAY=1SU;BYMONTH=11
TZNAME:CST
TZOFFSETFROM:-0500
TZOFFSETTO:-0600
END:STANDARD
BEGIN:DAYLIGHT
DTSTART:20250309T020000
RRULE:FREQ=YEARLY;BYDAY=2SU;BYMONTH=3
TZNAME:CDT
TZOFFSETFROM:-0600
TZOFFSETTO:-0500
END:DAYLIGHT
END:VTIMEZONE
BEGIN:VEVENT
DESCRIPTION:2026 Annual Meeting by the American Academy of Neurology\n\nTi
 tle: Kyverna Therapeutics - Stiff Person Syndrome Advisory Board\n\nDescr
 iption: Scientific advisory board with stiff person syndrome (SPS) key op
 inion leaders to discuss CAR T cell therapy for SPS and Kyverna's clinica
 l trial in SPS\, KYSA-8.\n\nLearn More About This Event: https://www.aan.
 com/msa/Public/Events/Details/22861
DTEND;TZID=Central Standard Time:20260420T210000
DTSTAMP:20260424T122348Z
DTSTART;TZID=Central Standard Time:20260420T180000
LOCATION:Marriott Marquis Chicago |  Theater
SEQUENCE:0
SUMMARY:AAN: Kyverna Therapeutics - Stiff Person Syndrome Advisory Board
UID:33f853ab-4527-42b8-81ff-b54f58b1598b
END:VEVENT
END:VCALENDAR
