BEGIN:VCALENDAR
PRODID:-//github.com/rianjs/ical.net//NONSGML ical.net 4.0//EN
VERSION:2.0
BEGIN:VTIMEZONE
TZID:Central Standard Time
X-LIC-LOCATION:America/Chicago
BEGIN:STANDARD
DTSTART:20241103T020000
RRULE:FREQ=YEARLY;BYDAY=1SU;BYMONTH=11
TZNAME:CST
TZOFFSETFROM:-0500
TZOFFSETTO:-0600
END:STANDARD
BEGIN:DAYLIGHT
DTSTART:20250309T020000
RRULE:FREQ=YEARLY;BYDAY=2SU;BYMONTH=3
TZNAME:CDT
TZOFFSETFROM:-0600
TZOFFSETTO:-0500
END:DAYLIGHT
END:VTIMEZONE
BEGIN:VEVENT
DESCRIPTION:2026 Annual Meeting by the American Academy of Neurology\n\nTi
 tle: Kyverna Therapeutics - Steering Committee Meeting\n\nDescription: Sp
 onsor-hosted meeting with members of the trial steering committee of the 
 KYSA-6 study to discuss study progress.  This will include live as well a
 s virtual participants.\n\nLearn More About This Event: https://www.aan.c
 om/msa/Public/Events/Details/22862
DTEND;TZID=Central Standard Time:20260420T090000
DTSTAMP:20260424T072300Z
DTSTART;TZID=Central Standard Time:20260420T070000
LOCATION:Hyatt Regency McCormick Place Chicago | Ontario
SEQUENCE:0
SUMMARY:AAN: Kyverna Therapeutics - Steering Committee Meeting
UID:37abd2c0-0f2f-4205-818d-82ba20a4e1e9
END:VEVENT
END:VCALENDAR
