BEGIN:VCALENDAR
PRODID:-//github.com/rianjs/ical.net//NONSGML ical.net 4.0//EN
VERSION:2.0
BEGIN:VTIMEZONE
TZID:Central Standard Time
X-LIC-LOCATION:America/Chicago
BEGIN:STANDARD
DTSTART:20241103T020000
RRULE:FREQ=YEARLY;BYDAY=1SU;BYMONTH=11
TZNAME:CST
TZOFFSETFROM:-0500
TZOFFSETTO:-0600
END:STANDARD
BEGIN:DAYLIGHT
DTSTART:20250309T020000
RRULE:FREQ=YEARLY;BYDAY=2SU;BYMONTH=3
TZNAME:CDT
TZOFFSETFROM:-0600
TZOFFSETTO:-0500
END:DAYLIGHT
END:VTIMEZONE
BEGIN:VEVENT
DESCRIPTION:2026 Annual Meeting by the American Academy of Neurology\n\nTi
 tle: Neurology® Podcast/Neurology Minute® Meeting\n\nDescription: A meeti
 ng for the Neurology Podcast team to review performance\, highlight succe
 sses\, and discuss ongoing and future projects. \n\nLearn More About This
  Event: https://www.aan.com/msa/Public/Events/Details/22885
DTEND;TZID=Central Standard Time:20260420T120000
DTSTAMP:20260424T122212Z
DTSTART;TZID=Central Standard Time:20260420T110000
LOCATION:McCormick Place West | W187c
SEQUENCE:0
SUMMARY:AAN: Neurology® Podcast/Neurology Minute® Meeting
UID:f7f6c638-92e7-4270-b3d6-44b026f387f9
END:VEVENT
END:VCALENDAR
