BEGIN:VCALENDAR
PRODID:-//github.com/rianjs/ical.net//NONSGML ical.net 4.0//EN
VERSION:2.0
BEGIN:VTIMEZONE
TZID:Central Standard Time
X-LIC-LOCATION:America/Chicago
BEGIN:STANDARD
DTSTART:20241103T020000
RRULE:FREQ=YEARLY;BYDAY=1SU;BYMONTH=11
TZNAME:CST
TZOFFSETFROM:-0500
TZOFFSETTO:-0600
END:STANDARD
BEGIN:DAYLIGHT
DTSTART:20250309T020000
RRULE:FREQ=YEARLY;BYDAY=2SU;BYMONTH=3
TZNAME:CDT
TZOFFSETFROM:-0600
TZOFFSETTO:-0500
END:DAYLIGHT
END:VTIMEZONE
BEGIN:VEVENT
DESCRIPTION:2026 Annual Meeting by the American Academy of Neurology\n\nTi
 tle: Neurology® Resident & Fellow Section Meeting \n\nDescription: A meet
 ing for the Neurology® Resident & Fellow Section to review the section's 
 performance\, highlight successes\, and discuss ongoing and future projec
 ts. \n\nLearn More About This Event: https://www.aan.com/msa/Public/Event
 s/Details/22886
DTEND;TZID=Central Standard Time:20260420T130000
DTSTAMP:20260424T122211Z
DTSTART;TZID=Central Standard Time:20260420T120000
LOCATION:McCormick Place West | W187c
SEQUENCE:0
SUMMARY:AAN: Neurology® Resident & Fellow Section Meeting
UID:d212f197-e649-4613-9c16-b4ef040def70
END:VEVENT
END:VCALENDAR
