BEGIN:VCALENDAR
PRODID:-//github.com/rianjs/ical.net//NONSGML ical.net 4.0//EN
VERSION:2.0
BEGIN:VTIMEZONE
TZID:Central Standard Time
X-LIC-LOCATION:America/Chicago
BEGIN:STANDARD
DTSTART:20241103T020000
RRULE:FREQ=YEARLY;BYDAY=1SU;BYMONTH=11
TZNAME:CST
TZOFFSETFROM:-0500
TZOFFSETTO:-0600
END:STANDARD
BEGIN:DAYLIGHT
DTSTART:20250309T020000
RRULE:FREQ=YEARLY;BYDAY=2SU;BYMONTH=3
TZNAME:CDT
TZOFFSETFROM:-0600
TZOFFSETTO:-0500
END:DAYLIGHT
END:VTIMEZONE
BEGIN:VEVENT
DESCRIPTION:2026 Annual Meeting by the American Academy of Neurology\n\nTi
 tle: Publications Committee Meeting\n\nDescription: The AAN Publications 
 Committee will meet to discuss the accomplishments in 2025 and what work 
 will be done in 2026. Dr. Jose Merino will lead the meeting.\n\nLearn Mor
 e About This Event: https://www.aan.com/msa/Public/Events/Details/22974
DTEND;TZID=Central Standard Time:20260419T170000
DTSTAMP:20260423T155123Z
DTSTART;TZID=Central Standard Time:20260419T160000
LOCATION:Marriott Marquis Chicago | Journalism
SEQUENCE:0
SUMMARY:AAN: Publications Committee Meeting
UID:03be6647-584c-4c14-920e-73a0354dff2a
END:VEVENT
END:VCALENDAR
